BEGIN:VCALENDAR
VERSION:2.0
PRODID:SoDel
X-WR-CALNAME:2026 Harry K Foundation Chocolate Crawl
BEGIN:VEVENT
UID:346542026-04-25
DTSTART;VALUE=DATE:20260425
SEQUENCE:0
TRANSP:OPAQUE
DTEND;VALUE=DATE:20260426
SUMMARY:2026 Harry K Foundation Chocolate Crawl
CLASS:PUBLIC
DESCRIPTION:Join us for the popular 2026 Harry K Foundation Chocolate Crawl
  on\nApril 25\, 2026\, from 12:00 pm to 4:00 pm! This fun event takes\nCra
 wlers on a delectably delicious journey of chocolate tasting\nthroughout d
 owntown  Rehoboth. Local vendors create special chocolate\ntreats and Cra
 wlers vote for their favorite to decide the best\nchocolate concoction of 
 the year. \n
X-ALT-DESC;FMTTYPE=text/html:<p>Join us for the popular 2026 Harry K Founda
 tion Chocolate Crawl on April 25\, 2026\, from 12:00 pm to 4:00 pm! This f
 un event takes Crawlers on a delectably delicious journey of chocolate tas
 ting throughout downtown&nbsp\; Rehoboth. Local vendors create special cho
 colate treats and Crawlers vote for their favorite to decide the best choc
 olate concoction of the year.&nbsp\;</p>
X-MICROSOFT-CDO-ALLDAYEVENT:TRUE
DTSTAMP:20260425T191652Z
END:VEVENT
END:VCALENDAR