BEGIN:VCALENDAR
VERSION:2.0
PRODID:SoDel
X-WR-CALNAME:Chevalier
BEGIN:VEVENT
UID:166362024-05-19
DTSTART:20240519T180000Z
SEQUENCE:0
TRANSP:OPAQUE
DTEND:20240519T040000Z
LOCATION:17701 Dartmouth Drive\nLewes DE 19958
X-APPLE-STRUCTURED-LOCATION;VALUE=URI;X-ADDRESS=17701 Dartmouth Drive\nLewe
 s DE 19958;X-APPLE-RADIUS=49;X-TITLE=17701 Dartmouth Drive:geo:38.743494,-
 75.154283
GEO:38.743494;-75.154283
SUMMARY:Chevalier
CLASS:PUBLIC
DESCRIPTION:Chevalier is a fascinating drama that retells the story of a da
 zzling\n18th century musician. Inspired by the incredible true story of\nc
 omposer Joseph Bologne\, Chevalier de Saint-Georges. The illegitimate\nson
  of an African slave and a French plantation owner\, Bologne (Kelvin\nHarr
 ison Jr. in a tour de force performance) rises to improbable\nheights in F
 rench society as a celebrated violinist-composer and\nfencer\, complete wi
 th an ill-fated love affair and a falling out with\nMarie Antoinette (Lucy
  Boynton) and her court. [2022\, Czech Republic\,\n07 min\, Rating: PG-13\
 , In French with English subtitles] Carla Renata\nof The Curvy Film Critic
  exclaims\, “Kelvin Harrison\, Jr. is a force\nto be reckoned with. With
  each and every role he inhabits a brand-new\nchapter of his talent in unv
 eiled and his portrayal of Chevalier is no\ndifferent. In fact\, it’s hi
 s best role to date.” Venue: Cinema Art\nTheater. Presenter: Rehoboth Be
 ach Film Society.
X-ALT-DESC;FMTTYPE=text/html:Chevalier is a fascinating drama that retells 
 the story of a dazzling 18th century musician. Inspired by the incredible 
 true story of composer Joseph Bologne\, Chevalier de Saint-Georges. The il
 legitimate son of an African slave and a French plantation owner\, Bologne
  (Kelvin Harrison Jr. in a tour de force performance) rises to improbable 
 heights in French society as a celebrated violinist-composer and fencer\, 
 complete with an ill-fated love affair and a falling out with Marie Antoin
 ette (Lucy Boynton) and her court. [2022\, Czech Republic\, 07 min\, Ratin
 g: PG-13\, In French with English subtitles] Carla Renata of The Curvy Fil
 m Critic exclaims\, “Kelvin Harrison\, Jr. is a force to be reckoned wit
 h. With each and every role he inhabits a brand-new chapter of his talent 
 in unveiled and his portrayal of Chevalier is no different. In fact\, it
 ’s his best role to date.” Venue: Cinema Art Theater. Presenter: Rehob
 oth Beach Film Society.
DTSTAMP:20260424T040753Z
END:VEVENT
END:VCALENDAR