BEGIN:VCALENDAR
VERSION:2.0
PRODID:SoDel
X-WR-CALNAME:Delaware Defense Day
BEGIN:VEVENT
UID:348432026-04-25
DTSTART;VALUE=DATE:20260425
SEQUENCE:0
TRANSP:OPAQUE
DTEND;VALUE=DATE:20260426
LOCATION:15099 Cape Henlopen Drive\nLewes Delaware 19958
X-APPLE-STRUCTURED-LOCATION;VALUE=URI;X-ADDRESS=15099 Cape Henlopen Drive\n
 Lewes Delaware 19958;X-APPLE-RADIUS=49;X-TITLE=15099 Cape Henlopen Drive:g
 eo:38.784142,-75.098320
GEO:38.784142;-75.098320
SUMMARY:Delaware Defense Day
CLASS:PUBLIC
DESCRIPTION:Delaware Defense Day is Fort Miles’ yearly open house and liv
 ing\nhistory event! Celebrate those who defended Delaware in the past\, su
 ch\nas the soldiers of Fort Miles\, and those who continue to serve and\nd
 efend the state today. Visitors can explore the historic area\,\nexperienc
 ing reenactments\, speaking with docents\, and interacting with\nrepresent
 atives from partner organizations.\n\nShuttle parking will be located at t
 he McBride Beach Bathhouse parking\nlot in Cape Henlopen State Park.\n\nTh
 e Fort Miles Museum in Battery 519 will be open from 10 a.m. to 4\np.m. wi
 th docents and demonstrations. Entrance to the museum is\n$6/person.\n
X-ALT-DESC;FMTTYPE=text/html:<p>Delaware Defense Day is Fort Miles&rsquo\; 
 yearly open house and living history event! Celebrate those who defended D
 elaware in the past\, such as the soldiers of Fort Miles\, and those who c
 ontinue to serve and defend the state today. Visitors can explore the hist
 oric area\, experiencing reenactments\, speaking with docents\, and intera
 cting with representatives from partner organizations.</p>\n\n<p>Shuttle p
 arking will be located at the McBride Beach Bathhouse parking lot in Cape 
 Henlopen State Park.</p>\n\n<p>The Fort Miles Museum in Battery 519 will b
 e open from 10 a.m. to 4 p.m. with docents and demonstrations. Entrance to
  the museum is $6/person.</p>
X-MICROSOFT-CDO-ALLDAYEVENT:TRUE
DTSTAMP:20260425T191647Z
END:VEVENT
END:VCALENDAR