BEGIN:VCALENDAR
VERSION:2.0
PRODID:SoDel
X-WR-CALNAME:SUMMER CHILDREN’S THEATRE: HEROIC HERCULES\, SNOW WHITE
BEGIN:VEVENT
UID:74682021-08-05
DTSTART;VALUE=DATE:20210805
SEQUENCE:0
TRANSP:OPAQUE
DTEND;VALUE=DATE:20210806
SUMMARY:SUMMER CHILDREN’S THEATRE: HEROIC HERCULES\, SNOW WHITE
CLASS:PUBLIC
DESCRIPTION:July 10 - August 28 Remember Saturday morning cartoons? Go back
  to a\ntime when we weren’t glued to cell phones and modern technology b
 ut\ninstead ran to see what fate befell our favorite characters! With that
 \nin mind\, Clear Space has developed a new summer Children’s Theatre\nS
 eries performed by kids for kids. Presented by Young Performers\, we\nbrin
 g you 30-minute versions of the beloved classics HEROIC HERCULES\nand SNOW
  WHITE and at only $5 per person\, unreserved admission.\nChildren are inv
 ited to sit on stage for this performance. HEROIC\nHERCULES Saturdays 11am
  Dates TBD CINDERELLA Saturdays 11am Dates TBD\nVenue: Clear Space Theatre
  Company.
X-ALT-DESC;FMTTYPE=text/html:July 10 - August 28 Remember Saturday morning 
 cartoons? Go back to a time when we weren’t glued to cell phones and mod
 ern technology but instead ran to see what fate befell our favorite charac
 ters! With that in mind\, Clear Space has developed a new summer Children
 ’s Theatre Series performed by kids for kids. Presented by Young Perform
 ers\, we bring you 30-minute versions of the beloved classics HEROIC HERCU
 LES and SNOW WHITE and at only $5 per person\, unreserved admission. Child
 ren are invited to sit on stage for this performance. HEROIC HERCULES Satu
 rdays 11am Dates TBD CINDERELLA Saturdays 11am Dates TBD Venue: Clear Spac
 e Theatre Company.
X-MICROSOFT-CDO-ALLDAYEVENT:TRUE
DTSTAMP:20260423T140353Z
END:VEVENT
END:VCALENDAR