BEGIN:VCALENDAR
VERSION:2.0
PRODID:SoDel
X-WR-CALNAME:THE SOUND OF MUSIC
BEGIN:VEVENT
UID:74652021-08-05
DTSTART:20210805T230000Z
SEQUENCE:0
TRANSP:OPAQUE
DTEND:20210805T040000Z
LOCATION:20 Baltimore Avenue\nRehoboth Beach DE 19971
X-APPLE-STRUCTURED-LOCATION;VALUE=URI;X-ADDRESS=20 Baltimore Avenue\nRehobo
 th Beach DE 19971;X-APPLE-RADIUS=49;X-TITLE=20 Baltimore Avenue:geo:38.717
 082,-75.078499
GEO:38.717082;-75.078499
SUMMARY:THE SOUND OF MUSIC
CLASS:PUBLIC
DESCRIPTION:Suggested by The Trapp Family Singers by Maria Augusta Trapp On
 e of\nthe most beloved musicals of all time! In Austria\, 1938\, an exuber
 ant\nyoung governess brings music and joy back to a broken family\, only t
 o\nface danger and intrigue as the Nazis gain power. With song the whole\n
 family will enjoy including “Climb Every Mountains\,” “Do Re\nMe\,
 ” “My Favorite Things\,” “Edelweiss\,” and many more.\nVenue: Cl
 ear Space Theatre Company.
X-ALT-DESC;FMTTYPE=text/html:Suggested by The Trapp Family Singers by Maria
  Augusta Trapp One of the most beloved musicals of all time! In Austria\, 
 1938\, an exuberant young governess brings music and joy back to a broken 
 family\, only to face danger and intrigue as the Nazis gain power. With so
 ng the whole family will enjoy including “Climb Every Mountains\,” “
 Do Re Me\,” “My Favorite Things\,” “Edelweiss\,” and many more. 
 Venue: Clear Space Theatre Company.
DTSTAMP:20260426T040035Z
END:VEVENT
END:VCALENDAR